BEGIN:VCALENDAR
VERSION:2.0
PRODID:-//AfD Kreisverband Main-Spessart - ECPv6.15.17//NONSGML v1.0//EN
CALSCALE:GREGORIAN
METHOD:PUBLISH
X-WR-CALNAME:AfD Kreisverband Main-Spessart
X-ORIGINAL-URL:https://afd-main-spessart.de
X-WR-CALDESC:Veranstaltungen für AfD Kreisverband Main-Spessart
REFRESH-INTERVAL;VALUE=DURATION:PT1H
X-Robots-Tag:noindex
X-PUBLISHED-TTL:PT1H
BEGIN:VTIMEZONE
TZID:Europe/Berlin
BEGIN:DAYLIGHT
TZOFFSETFROM:+0100
TZOFFSETTO:+0200
TZNAME:CEST
DTSTART:20240331T010000
END:DAYLIGHT
BEGIN:STANDARD
TZOFFSETFROM:+0200
TZOFFSETTO:+0100
TZNAME:CET
DTSTART:20241027T010000
END:STANDARD
BEGIN:DAYLIGHT
TZOFFSETFROM:+0100
TZOFFSETTO:+0200
TZNAME:CEST
DTSTART:20250330T010000
END:DAYLIGHT
BEGIN:STANDARD
TZOFFSETFROM:+0200
TZOFFSETTO:+0100
TZNAME:CET
DTSTART:20251026T010000
END:STANDARD
BEGIN:DAYLIGHT
TZOFFSETFROM:+0100
TZOFFSETTO:+0200
TZNAME:CEST
DTSTART:20260329T010000
END:DAYLIGHT
BEGIN:STANDARD
TZOFFSETFROM:+0200
TZOFFSETTO:+0100
TZNAME:CET
DTSTART:20261025T010000
END:STANDARD
END:VTIMEZONE
BEGIN:VEVENT
DTSTART;TZID=Europe/Berlin:20251217T183000
DTEND;TZID=Europe/Berlin:20251217T220000
DTSTAMP:20260420T220925
CREATED:20251126T082824Z
LAST-MODIFIED:20260115T045711Z
UID:17694-1765996200-1766008800@afd-main-spessart.de
SUMMARY:Main-Spessart-Stammtisch
DESCRIPTION:Gemeinsam essen\, gemeinsam diskutieren \n📆Wann: An jedem dritten Mittwoch\, diesmal den 17.12.2025 \n⏱️Zeitpunkt: Ab 18:30 Uhr \n📍Wo: Gasthof „Zur Linde“ in der Hafenstr. 1\, Gemünden \n🇩🇪Wir freuen uns auf Euren Besuch
URL:https://afd-main-spessart.de/termine/main-spessart-stammtisch/
CATEGORIES:Stammtisch
ATTACH;FMTTYPE=image/png:https://afd-main-spessart.de/wp-content/uploads/2025/11/Bier.png
END:VEVENT
END:VCALENDAR